BEGIN:VCALENDAR
VERSION:2.0
PRODID:-//mvd Mannheim - ECPv6.15.20//NONSGML v1.0//EN
CALSCALE:GREGORIAN
METHOD:PUBLISH
X-WR-CALNAME:mvd Mannheim
X-ORIGINAL-URL:https://www.mvd-mannheim.de
X-WR-CALDESC:Veranstaltungen für mvd Mannheim
REFRESH-INTERVAL;VALUE=DURATION:PT1H
X-Robots-Tag:noindex
X-PUBLISHED-TTL:PT1H
BEGIN:VTIMEZONE
TZID:Europe/Berlin
BEGIN:DAYLIGHT
TZOFFSETFROM:+0100
TZOFFSETTO:+0200
TZNAME:CEST
DTSTART:20180325T010000
END:DAYLIGHT
BEGIN:STANDARD
TZOFFSETFROM:+0200
TZOFFSETTO:+0100
TZNAME:CET
DTSTART:20181028T010000
END:STANDARD
BEGIN:DAYLIGHT
TZOFFSETFROM:+0100
TZOFFSETTO:+0200
TZNAME:CEST
DTSTART:20190331T010000
END:DAYLIGHT
BEGIN:STANDARD
TZOFFSETFROM:+0200
TZOFFSETTO:+0100
TZNAME:CET
DTSTART:20191027T010000
END:STANDARD
BEGIN:DAYLIGHT
TZOFFSETFROM:+0100
TZOFFSETTO:+0200
TZNAME:CEST
DTSTART:20200329T010000
END:DAYLIGHT
BEGIN:STANDARD
TZOFFSETFROM:+0200
TZOFFSETTO:+0100
TZNAME:CET
DTSTART:20201025T010000
END:STANDARD
BEGIN:DAYLIGHT
TZOFFSETFROM:+0100
TZOFFSETTO:+0200
TZNAME:CEST
DTSTART:20210328T010000
END:DAYLIGHT
BEGIN:STANDARD
TZOFFSETFROM:+0200
TZOFFSETTO:+0100
TZNAME:CET
DTSTART:20211031T010000
END:STANDARD
BEGIN:DAYLIGHT
TZOFFSETFROM:+0100
TZOFFSETTO:+0200
TZNAME:CEST
DTSTART:20220327T010000
END:DAYLIGHT
BEGIN:STANDARD
TZOFFSETFROM:+0200
TZOFFSETTO:+0100
TZNAME:CET
DTSTART:20221030T010000
END:STANDARD
BEGIN:DAYLIGHT
TZOFFSETFROM:+0100
TZOFFSETTO:+0200
TZNAME:CEST
DTSTART:20230326T010000
END:DAYLIGHT
BEGIN:STANDARD
TZOFFSETFROM:+0200
TZOFFSETTO:+0100
TZNAME:CET
DTSTART:20231029T010000
END:STANDARD
BEGIN:DAYLIGHT
TZOFFSETFROM:+0100
TZOFFSETTO:+0200
TZNAME:CEST
DTSTART:20240331T010000
END:DAYLIGHT
BEGIN:STANDARD
TZOFFSETFROM:+0200
TZOFFSETTO:+0100
TZNAME:CET
DTSTART:20241027T010000
END:STANDARD
BEGIN:DAYLIGHT
TZOFFSETFROM:+0100
TZOFFSETTO:+0200
TZNAME:CEST
DTSTART:20250330T010000
END:DAYLIGHT
BEGIN:STANDARD
TZOFFSETFROM:+0200
TZOFFSETTO:+0100
TZNAME:CET
DTSTART:20251026T010000
END:STANDARD
BEGIN:DAYLIGHT
TZOFFSETFROM:+0100
TZOFFSETTO:+0200
TZNAME:CEST
DTSTART:20260329T010000
END:DAYLIGHT
BEGIN:STANDARD
TZOFFSETFROM:+0200
TZOFFSETTO:+0100
TZNAME:CET
DTSTART:20261025T010000
END:STANDARD
END:VTIMEZONE
BEGIN:VEVENT
DTSTART;TZID=Europe/Berlin:20251214T160000
DTEND;TZID=Europe/Berlin:20251214T220000
DTSTAMP:20260420T114720
CREATED:20250220T153107Z
LAST-MODIFIED:20250220T153107Z
UID:10005444-1765728000-1765749600@www.mvd-mannheim.de
SUMMARY:mvd-Weihnachtsfeier
DESCRIPTION:
URL:https://www.mvd-mannheim.de/termine/mvd-weihnachtsfeier-6
LOCATION:Eichbaum-Brauhaus\, Eichbaum-Brauhaus\, Käfertaler Straße 168\, 68167 Mannheim
CATEGORIES:Allgemein,Events
END:VEVENT
BEGIN:VEVENT
DTSTART;TZID=Europe/Berlin:20250316T150000
DTEND;TZID=Europe/Berlin:20250316T170000
DTSTAMP:20260420T114720
CREATED:20250116T085724Z
LAST-MODIFIED:20250116T085724Z
UID:10005440-1742137200-1742144400@www.mvd-mannheim.de
SUMMARY:mvd Mitgliederversammlung
DESCRIPTION:
URL:https://www.mvd-mannheim.de/termine/mvd-mitgliederversammlung-3
LOCATION:Eichbaum-Brauhaus\, Eichbaum-Brauhaus\, Käfertaler Straße 168\, 68167 Mannheim
CATEGORIES:Allgemein,Events
END:VEVENT
BEGIN:VEVENT
DTSTART;TZID=Europe/Berlin:20250316T140000
DTEND;TZID=Europe/Berlin:20250316T144500
DTSTAMP:20260420T114720
CREATED:20250131T225522Z
LAST-MODIFIED:20250211T203127Z
UID:10005442-1742133600-1742136300@www.mvd-mannheim.de
SUMMARY:mvd-fitness Abteilungsversammlung
DESCRIPTION:
URL:https://www.mvd-mannheim.de/termine/mvd-fitness-abteilungsversammlung
LOCATION:Eichbaum-Brauhaus\, Eichbaum-Brauhaus\, Käfertaler Straße 168\, 68167 Mannheim
CATEGORIES:Fitness
END:VEVENT
BEGIN:VEVENT
DTSTART;TZID=Europe/Berlin:20240317T150000
DTEND;TZID=Europe/Berlin:20240317T170000
DTSTAMP:20260420T114720
CREATED:20231210T103718Z
LAST-MODIFIED:20231212T152136Z
UID:10004410-1710687600-1710694800@www.mvd-mannheim.de
SUMMARY:mvd Mitgliederversammlung
DESCRIPTION:
URL:https://www.mvd-mannheim.de/termine/mvd-jahreshauptversammlung
LOCATION:Eichbaum-Brauhaus\, Eichbaum-Brauhaus\, Käfertaler Straße 168\, 68167 Mannheim
CATEGORIES:Allgemein,Events
END:VEVENT
BEGIN:VEVENT
DTSTART;TZID=Europe/Berlin:20221211T160000
DTEND;TZID=Europe/Berlin:20221211T210000
DTSTAMP:20260420T114720
CREATED:20220512T101113Z
LAST-MODIFIED:20221201T185221Z
UID:10002808-1670774400-1670792400@www.mvd-mannheim.de
SUMMARY:mvd-Weihnachtsfeier
DESCRIPTION:Ort: Eichbaum-Brauhaus\, Käfertalerstr. 168\, 68187 Mannheim\, großer Saal 1.OG \nZeitplan: \n16 Uhr: Kaffee und Kuchen \n18 Uhr: kühler Sekt und warme Worte des Vorstandes und der Abteilungsleiter \nanschließend: Abendessen
URL:https://www.mvd-mannheim.de/termine/mvd-weihnachtsfeier-3
LOCATION:Eichbaum-Brauhaus\, Eichbaum-Brauhaus\, Käfertaler Straße 168\, 68167 Mannheim
CATEGORIES:Allgemein,Events
END:VEVENT
BEGIN:VEVENT
DTSTART;TZID=Europe/Berlin:20220501T160000
DTEND;TZID=Europe/Berlin:20220501T210000
DTSTAMP:20260420T114720
CREATED:20211223T164524Z
LAST-MODIFIED:20220430T103238Z
UID:10002277-1651420800-1651438800@www.mvd-mannheim.de
SUMMARY:mvd-Mainachtsfeier
DESCRIPTION:Wir wollen unsere mvd-Weihnachtsfeier nachholen \nund laden alle mvd-Mitglieder zur mvd-Mainachtsfeier \nins Eichbaum-Brauhaus\, Käfertaler Straße 168\, 68167 Mannheim\, ein. \n  \nAblauf\, wie bewährt: \n\nab 16 Uhr: Kaffee & Kuchen\n18 Uhr: Anstoßen mit Sekt\, Warme Worte vom Vorstand\, Berichte aus den Abteilungen\n19 Uhr: Abendessen\n\n  \nAuch bei der Speisenauswahl bleibt vieles beim Bewährten: \nVorab gibt es am Platz einen gemischten Salatteller. Am Büfett hat anschließend jede*r die Wahl aus: \n\nRinderschmorbraten\nPutengeschnetzeltes Zürcher Art\nKrustenbraten in Biersauce\nÜberbackener Schafskäse\nGedünstete Gemüseauswahl\nKartoffelgratin\nServiettenknödel\nHausgemachte Spätzle\n\n  \nFür die Getränke erhalten alle mvd-Mitglieder eine Getränkeverzehrkarte\, die bis zum Betrag von 15 € gilt. Getränke über diesen Betrag hinaus\, müssen bitte selbst beglichen werden. \nAuch eure Partner*innen\, die nicht Mitglied im mvd sind\, sind natürlich wieder herzlich willkommen! Wir bitten diese allerdings um einen Unkostenbeitrag in Höhe von 20 €\, welcher bei allen anwesenden Vorstandsmitgliedern entrichtet werden kann.
URL:https://www.mvd-mannheim.de/termine/mvd-mainachtsfeier
LOCATION:Eichbaum-Brauhaus\, Eichbaum-Brauhaus\, Käfertaler Straße 168\, 68167 Mannheim
CATEGORIES:Events
END:VEVENT
BEGIN:VEVENT
DTSTART;TZID=Europe/Berlin:20211212T160000
DTEND;TZID=Europe/Berlin:20211212T210000
DTSTAMP:20260420T114720
CREATED:20211223T164342Z
LAST-MODIFIED:20211223T164417Z
UID:10002276-1639324800-1639342800@www.mvd-mannheim.de
SUMMARY:mvd-Weihnachtsfeier - abgesagt!
DESCRIPTION:Die Weihnachtsfeier 2021 wurde wegen der Corona-Pandemie abgesagt
URL:https://www.mvd-mannheim.de/termine/mvd-weihnachtsfeier-abgesagt
LOCATION:Eichbaum-Brauhaus\, Eichbaum-Brauhaus\, Käfertaler Straße 168\, 68167 Mannheim
CATEGORIES:Events
END:VEVENT
BEGIN:VEVENT
DTSTART;TZID=Europe/Berlin:20200308T150000
DTEND;TZID=Europe/Berlin:20200308T180000
DTSTAMP:20260420T114720
CREATED:20191218T162737Z
LAST-MODIFIED:20191218T163101Z
UID:10000837-1583679600-1583690400@www.mvd-mannheim.de
SUMMARY:mvd - Mitgliederversammlung 2020
DESCRIPTION:Mitgliederversammlung des mvd e. V. \n… mit Vorstandswahlen. \nBeginn 15 Uhr im Eichbaum-Brauhaus \n  \nMehr Informationen folgen durch den Vorstand. \n 
URL:https://www.mvd-mannheim.de/termine/mvd-mitgliederversammlung
LOCATION:Eichbaum-Brauhaus\, Eichbaum-Brauhaus\, Käfertaler Straße 168\, 68167 Mannheim
CATEGORIES:Events
END:VEVENT
BEGIN:VEVENT
DTSTART;TZID=Europe/Berlin:20191215T160000
DTEND;TZID=Europe/Berlin:20191215T220000
DTSTAMP:20260420T114720
CREATED:20190807T171055Z
LAST-MODIFIED:20191210T161059Z
UID:10000045-1576425600-1576447200@www.mvd-mannheim.de
SUMMARY:mvd-Weihnachtsfeier
DESCRIPTION:Wir freuen uns auf euch alle bei unserer Weihnachtsfeier! Hier noch ein paar konkretere Infos:\n\n\nWas: mvd-Weihnachtsfeier\n\nDatum: So\, 15.12.2019\nOrt: Eichbaum-Brauhaus\, Käfertaler Straße 168\, 68167 Mannheim (www.eichbaumbrauhaus.de) \n\nZeitplan: Kaffee und Kuchen ab 16:00 Uhr\, Sekt für alle und Rückblick auf das mvd-Jahr 2019 ca. 18:00 Uhr\, danach Abendessen.\n\n\n\n\n\nDen Menüplan haben wir auch dieses Jahr bei den altbewährten Speisen belassen.\nUnd auch dieses Jahr erhalten alle Mitglieder eine Getränkeverzehrkarte\, die bis zum Betrag von 15 € gilt. Diese Karte am Ende bitte einfach den Damen und Herren des Eichbaum-Brauhauses übergeben. Getränke über diesen Betrag hinaus\, müssen dann bitte noch selbst beglichen werden.\n\nAuch eure Partner*innen sind natürlich herzlich willkommen! Wir bitten diese allerdings um einen Unkostenbeitrag in Höhe von 15 €\, welcher bei allen anwesenden Vorstandsmitgliedern entrichtet werden kann.\n\nVeganer*innen oder Mitglieder mit Unverträglichkeiten\, die auf der Menükarte nichts Passendes finden\, wenden sich gerne an mich. Ich bitte hierzu um Rückmeldung bis Mitte dieser Woche und versuche das dann mit der Küche zu klären. … unter 1.vorsitzender@mvd-mannheim.de\n\n\nFalls ihr ein Bonusheft von eurer Krankenkasse habt\, bringt es gerne mit. Wir vom Vorstand stempeln euch dann den Abschnitt zur Mitgliedschaft im Sportverein gerne ab.\n\n 
URL:https://www.mvd-mannheim.de/termine/mvd-weihnachtsfeier
LOCATION:Eichbaum-Brauhaus\, Eichbaum-Brauhaus\, Käfertaler Straße 168\, 68167 Mannheim
CATEGORIES:Allgemein,Events
END:VEVENT
END:VCALENDAR